BEGIN:VCALENDAR
VERSION:2.0
PRODID:-//The Cordial Factory - ECPv6.15.18//NONSGML v1.0//EN
CALSCALE:GREGORIAN
METHOD:PUBLISH
X-ORIGINAL-URL:https://thecordialfactory.com.au
X-WR-CALDESC:Events for The Cordial Factory
REFRESH-INTERVAL;VALUE=DURATION:PT1H
X-Robots-Tag:noindex
X-PUBLISHED-TTL:PT1H
BEGIN:VTIMEZONE
TZID:Australia/Sydney
BEGIN:STANDARD
TZOFFSETFROM:+1100
TZOFFSETTO:+1000
TZNAME:AEST
DTSTART:20230401T160000
END:STANDARD
BEGIN:DAYLIGHT
TZOFFSETFROM:+1000
TZOFFSETTO:+1100
TZNAME:AEDT
DTSTART:20230930T160000
END:DAYLIGHT
BEGIN:STANDARD
TZOFFSETFROM:+1100
TZOFFSETTO:+1000
TZNAME:AEST
DTSTART:20240406T160000
END:STANDARD
BEGIN:DAYLIGHT
TZOFFSETFROM:+1000
TZOFFSETTO:+1100
TZNAME:AEDT
DTSTART:20241005T160000
END:DAYLIGHT
BEGIN:STANDARD
TZOFFSETFROM:+1100
TZOFFSETTO:+1000
TZNAME:AEST
DTSTART:20250405T160000
END:STANDARD
BEGIN:DAYLIGHT
TZOFFSETFROM:+1000
TZOFFSETTO:+1100
TZNAME:AEDT
DTSTART:20251004T160000
END:DAYLIGHT
END:VTIMEZONE
BEGIN:VEVENT
DTSTART;TZID=Australia/Sydney:20241116T180000
DTEND;TZID=Australia/Sydney:20241116T230000
DTSTAMP:20260421T222419
CREATED:20240917T115909Z
LAST-MODIFIED:20240917T120135Z
UID:482-1731780000-1731798000@thecordialfactory.com.au
SUMMARY:Jo Caseley\, Amber Kenny and Josie Laver
DESCRIPTION:NOVEMBER SHOW ANNOUNCEMENT 📣📣 \nHow did three rural Australian women\, each deeply connected to their horses\, journey through life to emerge as inspiring singer/songwriters and how did the music they grew up listening to shape them into the artists they are today? \nThese stories and more when The Cordial Factory\, Grenfell presents “Hell of a Ride”\, an intimate evening of heartfelt stories and acoustic performances from rural-based\, Australian singer-songwriters Jo Caseley\, Amber Kenny\, and Josie Laver. \nSaturday 16 November / Catering TBC / Gate & Bar Opens 6.00pm / Show starts 7.30pm / Tickets $50.00 + BF ⬇️ \nhttps://www.trybooking.com/CUSYL
URL:https://thecordialfactory.com.au/events/jo-caseley-amber-kenny-josie-laver/
LOCATION:The Cordial Factory\, 18 George St\, Grenfell\, NSW\, 2810\, Australia
ATTACH;FMTTYPE=image/jpeg:https://thecordialfactory.com.au/wp-content/uploads/2024/09/459892874_523277377127070_6719662661918239462_n.jpg
END:VEVENT
END:VCALENDAR