BEGIN:VCALENDAR
VERSION:2.0
PRODID:-//The Cordial Factory - ECPv6.15.18//NONSGML v1.0//EN
CALSCALE:GREGORIAN
METHOD:PUBLISH
X-WR-CALNAME:The Cordial Factory
X-ORIGINAL-URL:https://thecordialfactory.com.au
X-WR-CALDESC:Events for The Cordial Factory
REFRESH-INTERVAL;VALUE=DURATION:PT1H
X-Robots-Tag:noindex
X-PUBLISHED-TTL:PT1H
BEGIN:VTIMEZONE
TZID:Australia/Sydney
BEGIN:STANDARD
TZOFFSETFROM:+1100
TZOFFSETTO:+1000
TZNAME:AEST
DTSTART:20240406T160000
END:STANDARD
BEGIN:DAYLIGHT
TZOFFSETFROM:+1000
TZOFFSETTO:+1100
TZNAME:AEDT
DTSTART:20241005T160000
END:DAYLIGHT
BEGIN:STANDARD
TZOFFSETFROM:+1100
TZOFFSETTO:+1000
TZNAME:AEST
DTSTART:20250405T160000
END:STANDARD
BEGIN:DAYLIGHT
TZOFFSETFROM:+1000
TZOFFSETTO:+1100
TZNAME:AEDT
DTSTART:20251004T160000
END:DAYLIGHT
BEGIN:STANDARD
TZOFFSETFROM:+1100
TZOFFSETTO:+1000
TZNAME:AEST
DTSTART:20260404T160000
END:STANDARD
BEGIN:DAYLIGHT
TZOFFSETFROM:+1000
TZOFFSETTO:+1100
TZNAME:AEDT
DTSTART:20261003T160000
END:DAYLIGHT
END:VTIMEZONE
BEGIN:VEVENT
DTSTART;TZID=Australia/Sydney:20250124T173000
DTEND;TZID=Australia/Sydney:20250124T230000
DTSTAMP:20260421T174839
CREATED:20250204T010657Z
LAST-MODIFIED:20250204T010657Z
UID:491-1737739800-1737759600@thecordialfactory.com.au
SUMMARY:WILLIAM CRIGHTON WITH SPECIAL GUEST BEANS ON TOAST
DESCRIPTION:FIRST SHOW FOR 2025WILLIAM CRIGHTON (PERFORMING SOLO) WITH SPECIAL GUEST BEANS ON TOAST\, FRIDAY 24 JANUARY 2025.\n\n\nWilliam Crighton is a Factory favourite\, playing our first inaugral show back in 2022\, he has been bringing his incredible talent and unforgettable performances to TCF stage ever since.\n\n\nThe last two years have seen William win an ARIA\, support Midnight Oil and The Dead South on tours around the world\, play his first Glastonbury and release his third album ‘Water and Dust’.\n\n\nPioneering the Bush Psych genre\, Crighton is one of Australia’s new generation of storytellers\, his music soaked in the essence of the Australian landscape.\n\n\n “…a strikingly singular talent…Crighton burns with ragged intensity…he’s a classic Australian storyteller” – Stack Magazine \n\n\nWith each show he contiues to captivate and inspire audiences and has always delivered something special to our Cordial community. Whether you are a long time fan or this is your first time seeimg him live\, you won’t want to miss what promises to be another incredible performance.\n\n\nWe also look forward to welcoming back supporting artist Beans on Toast. A folk hero in the UK – he’s released 15 albums\, played Glastonbury 15 times and of course TCF once  He’s a hippy\, a punk\, a poet\, a drunk\, a die-hard romantic and an eternal optimist.\n\n\nBOOK tickets early to avoid missing this show. $50 + booking fees\n https://www.trybooking.com/CXCYO\n\n\nGate / bar opens at 5.30pm / Show starts at 7.30pm / Catering TBC\n\n\nProudly funded by Live Music Australia – an Australian Government initiative\n\n\n@william_crighton\n@beans.on.toast
URL:https://thecordialfactory.com.au/events/william-crighton-with-special-guest-beans-on-toast/
LOCATION:The Cordial Factory\, 18 George St\, Grenfell\, NSW\, 2810\, Australia
ATTACH;FMTTYPE=image/jpeg:https://thecordialfactory.com.au/wp-content/uploads/2025/02/468080280_572859468835527_81362715046808484_n.jpg
END:VEVENT
END:VCALENDAR