BEGIN:VCALENDAR
VERSION:2.0
PRODID:-//The Cordial Factory - ECPv6.15.18//NONSGML v1.0//EN
CALSCALE:GREGORIAN
METHOD:PUBLISH
X-WR-CALNAME:The Cordial Factory
X-ORIGINAL-URL:https://thecordialfactory.com.au
X-WR-CALDESC:Events for The Cordial Factory
REFRESH-INTERVAL;VALUE=DURATION:PT1H
X-Robots-Tag:noindex
X-PUBLISHED-TTL:PT1H
BEGIN:VTIMEZONE
TZID:Australia/Sydney
BEGIN:STANDARD
TZOFFSETFROM:+1100
TZOFFSETTO:+1000
TZNAME:AEST
DTSTART:20230401T160000
END:STANDARD
BEGIN:DAYLIGHT
TZOFFSETFROM:+1000
TZOFFSETTO:+1100
TZNAME:AEDT
DTSTART:20230930T160000
END:DAYLIGHT
BEGIN:STANDARD
TZOFFSETFROM:+1100
TZOFFSETTO:+1000
TZNAME:AEST
DTSTART:20240406T160000
END:STANDARD
BEGIN:DAYLIGHT
TZOFFSETFROM:+1000
TZOFFSETTO:+1100
TZNAME:AEDT
DTSTART:20241005T160000
END:DAYLIGHT
BEGIN:STANDARD
TZOFFSETFROM:+1100
TZOFFSETTO:+1000
TZNAME:AEST
DTSTART:20250405T160000
END:STANDARD
BEGIN:DAYLIGHT
TZOFFSETFROM:+1000
TZOFFSETTO:+1100
TZNAME:AEDT
DTSTART:20251004T160000
END:DAYLIGHT
END:VTIMEZONE
BEGIN:VEVENT
DTSTART;TZID=Australia/Sydney:20240713T180000
DTEND;TZID=Australia/Sydney:20240713T230000
DTSTAMP:20260422T013006
CREATED:20240616T014306Z
LAST-MODIFIED:20240616T014642Z
UID:456-1720893600-1720911600@thecordialfactory.com.au
SUMMARY:Frank Sultana
DESCRIPTION:Dripping with pre-WW2 mojo\, dark\, dirty guitar tones and a voice that has the grit and soul of the characters and places he writes and sings about\, Frank Sultana is a modern-day blues man. \nIn January 2023\, among a field of 150 artists from around the world\, Frank competed in and won the solo/duo section of the International Blues Challenge in Memphis Tennessee – only the third Australian to do so in the events 38-year history! \nWhile in Memphis\, he also recorded his new album at the iconic Sun Studios where so many greats before him have recorded. \nFrank is a storyteller in the traditional sense\, inspired by greats like Ray Charles and Bob Dylan\, as well as Mississippi blues pioneers like Skip James and Son House. He has released five albums and three eps and has become a permanent fixture on Australia’s live scene\, earning a big reputation as a powerhouse singer and gifted songwriter. \nTickets: https://trybooking.com/csmec \nDon’t miss Frank Sultana when he plays The Cordial Factory\, Grenfell on Saturday 13 July / Tickets $50 + BF / Catering TBC / Gate & Bar Opens 6pm / Music from 7.30pm / Support by Nieko
URL:https://thecordialfactory.com.au/events/frank-sultana-2024/
LOCATION:The Cordial Factory\, 18 George St\, Grenfell\, NSW\, 2810\, Australia
ATTACH;FMTTYPE=image/jpeg:https://thecordialfactory.com.au/wp-content/uploads/2024/06/448020203_459681390153336_7773539960951735380_n.jpg
END:VEVENT
END:VCALENDAR