BEGIN:VCALENDAR
VERSION:2.0
PRODID:-//The Cordial Factory - ECPv6.15.18//NONSGML v1.0//EN
CALSCALE:GREGORIAN
METHOD:PUBLISH
X-WR-CALNAME:The Cordial Factory
X-ORIGINAL-URL:https://thecordialfactory.com.au
X-WR-CALDESC:Events for The Cordial Factory
REFRESH-INTERVAL;VALUE=DURATION:PT1H
X-Robots-Tag:noindex
X-PUBLISHED-TTL:PT1H
BEGIN:VTIMEZONE
TZID:Australia/Sydney
BEGIN:STANDARD
TZOFFSETFROM:+1100
TZOFFSETTO:+1000
TZNAME:AEST
DTSTART:20240406T160000
END:STANDARD
BEGIN:DAYLIGHT
TZOFFSETFROM:+1000
TZOFFSETTO:+1100
TZNAME:AEDT
DTSTART:20241005T160000
END:DAYLIGHT
BEGIN:STANDARD
TZOFFSETFROM:+1100
TZOFFSETTO:+1000
TZNAME:AEST
DTSTART:20250405T160000
END:STANDARD
BEGIN:DAYLIGHT
TZOFFSETFROM:+1000
TZOFFSETTO:+1100
TZNAME:AEDT
DTSTART:20251004T160000
END:DAYLIGHT
BEGIN:STANDARD
TZOFFSETFROM:+1100
TZOFFSETTO:+1000
TZNAME:AEST
DTSTART:20260404T160000
END:STANDARD
BEGIN:DAYLIGHT
TZOFFSETFROM:+1000
TZOFFSETTO:+1100
TZNAME:AEDT
DTSTART:20261003T160000
END:DAYLIGHT
END:VTIMEZONE
BEGIN:VEVENT
DTSTART;TZID=Australia/Sydney:20250831T173000
DTEND;TZID=Australia/Sydney:20250831T230000
DTSTAMP:20260421T033716
CREATED:20250527T115055Z
LAST-MODIFIED:20250527T115055Z
UID:507-1756661400-1756681200@thecordialfactory.com.au
SUMMARY:Lyn Bowtell Paper Cuts Tour
DESCRIPTION:AUGUST SHOW ANNOUNCEMENT – LYN BOWTELL \n\n\nWith a career spanning from the Country music clubs of the Darling Downs to stages\nacross Australia and the world\, Lyn Bowtell has cemented her place as one of the\ncountry’s most captivating and accomplished artists.\n\n\nA 10-time Golden Guitar Award winner\, Toyota Star Maker champion\, Mo Award recipient\, and 2022 Hands of Fame inductee\, Lyn has been carving out a stellar career\, releasing a string of critically acclaimed albums along the way.\n\n\nWith influences spanning Country\, Blues\, Jazz\, and Pop\, Lyn’s rich\, emotive vocals and\nsoul-stirring songwriting set her apart as a true musical force. Few voices in Australian music rival her class\, style\, and raw authenticity. \n\n\n\n WHAT THEY’RE SAYING ABOUT LYN BOWTELL \n\n\n‘There really aren’t enough superlatives to describe Lyn Bowtell as a singer\,\nsongwriter\, performing artist\, teacher\, mentor and human. Anyone who has seen\nher perform live never forgets the experience of hearing her sing for the first time\nand every time. Nor do they forget how funny she is! Bowtell creates an experience\nfor her audiences and everyone leaves her shows uplifted and entertained.’ – Sophie\nHamley – Sunburnt Country\n\n\n“She has one of the most amazing voices in this country\, I love this beautiful woman\nand her talent” – Kasey Chambers\n\n\n\n\n\n\n\nExperience for yourself why Lyn Bowtell is one of Australia’s most respected artists when she brings her “Paper Cuts” tour (in support of her latest album release of the same name\, out on 1 August) to The Cordial Factory\, Grenfell on Sunday 31 August 2025.\n\n\nLyn will be joined by special guest and 2023 New Songwriter of the Year\, Felicity Dowd.\n\n\n\n Support Australian music and enjoy an evening of homegrown talent\n Sunday 31 August from 5.30pm\n The Cordial Factory\, 18 George Street Grenfell\n $45 + booking fees\n https://www.trybooking.com/DBLDH\n\n\n@lynbowtell
URL:https://thecordialfactory.com.au/events/lyn-bowtell-paper-cuts-tour/
LOCATION:The Cordial Factory\, 18 George St\, Grenfell\, NSW\, 2810\, Australia
ATTACH;FMTTYPE=image/jpeg:https://thecordialfactory.com.au/wp-content/uploads/2025/05/Lyn_Bowtell_live_at_the_cordial_factory_grenfell.jpg
END:VEVENT
END:VCALENDAR