BEGIN:VCALENDAR
VERSION:2.0
PRODID:-//The Cordial Factory - ECPv6.15.18//NONSGML v1.0//EN
CALSCALE:GREGORIAN
METHOD:PUBLISH
X-ORIGINAL-URL:https://thecordialfactory.com.au
X-WR-CALDESC:Events for The Cordial Factory
REFRESH-INTERVAL;VALUE=DURATION:PT1H
X-Robots-Tag:noindex
X-PUBLISHED-TTL:PT1H
BEGIN:VTIMEZONE
TZID:Australia/Sydney
BEGIN:STANDARD
TZOFFSETFROM:+1100
TZOFFSETTO:+1000
TZNAME:AEST
DTSTART:20240406T160000
END:STANDARD
BEGIN:DAYLIGHT
TZOFFSETFROM:+1000
TZOFFSETTO:+1100
TZNAME:AEDT
DTSTART:20241005T160000
END:DAYLIGHT
BEGIN:STANDARD
TZOFFSETFROM:+1100
TZOFFSETTO:+1000
TZNAME:AEST
DTSTART:20250405T160000
END:STANDARD
BEGIN:DAYLIGHT
TZOFFSETFROM:+1000
TZOFFSETTO:+1100
TZNAME:AEDT
DTSTART:20251004T160000
END:DAYLIGHT
BEGIN:STANDARD
TZOFFSETFROM:+1100
TZOFFSETTO:+1000
TZNAME:AEST
DTSTART:20260404T160000
END:STANDARD
BEGIN:DAYLIGHT
TZOFFSETFROM:+1000
TZOFFSETTO:+1100
TZNAME:AEDT
DTSTART:20261003T160000
END:DAYLIGHT
END:VTIMEZONE
BEGIN:VEVENT
DTSTART;TZID=Australia/Sydney:20251018T173000
DTEND;TZID=Australia/Sydney:20251018T230000
DTSTAMP:20260421T001610
CREATED:20250721T234722Z
LAST-MODIFIED:20250725T233017Z
UID:539-1760808600-1760828400@thecordialfactory.com.au
SUMMARY:Melody Pool
DESCRIPTION:OCTOBER SHOW ANNOUNCEMENT – MELODY POOL \n\n\n\nWe’re thrilled to welcome acclaimed Australian artist Melody Pool to our stage this October\, celebrating her stunning new album Our Eternal Garden – out July 31! \n\n\nA bold step forward in her sound and songwriting\, Our Eternal Garden explores themes of spiritual inheritance\, ego death\, and self-discovery. It’s a deeply personal\, cinematic album that feels like a journey back to one’s truest self.\n\n\n\n“This album is about all echoes of the self\, throughout all lifetimes\,” says Pool. “It helped me process grief\, trust\, and curiosity—and find something sacred in the chaos.”\n\n\nAdding to its richness\, the album’s visuals were shot by legendary rock photographer Henry Diltz\, known for his iconic work with The Doors\, Joni Mitchell\, and Neil Young.\n\n\nRaw\, fearless\, and unmistakably Melody Pool — Our Eternal Garden doesn’t just invite you in\, it pulls you under.\n\n\n\n Saturday 18 October from 5.30pm\n The Cordial Factory\, 18 George Street Grenfell\n $45 + booking fees\n https://www.trybooking.com/DDWZC\n\n\n\nOur Eternal Garden:\n Available July 31 on vinyl\, CD\, and digital.\n Pre-order & exclusive bundles on Bandcamp nowhttps://bandcamp.com/
URL:https://thecordialfactory.com.au/events/melody-pool/
LOCATION:The Cordial Factory\, 18 George St\, Grenfell\, NSW\, 2810\, Australia
ATTACH;FMTTYPE=image/jpeg:https://thecordialfactory.com.au/wp-content/uploads/2025/07/520223337_746739034780902_3937586322172648421_n-1.jpg
END:VEVENT
END:VCALENDAR