BEGIN:VCALENDAR
VERSION:2.0
PRODID:-//The Cordial Factory - ECPv6.15.18//NONSGML v1.0//EN
CALSCALE:GREGORIAN
METHOD:PUBLISH
X-ORIGINAL-URL:https://thecordialfactory.com.au
X-WR-CALDESC:Events for The Cordial Factory
REFRESH-INTERVAL;VALUE=DURATION:PT1H
X-Robots-Tag:noindex
X-PUBLISHED-TTL:PT1H
BEGIN:VTIMEZONE
TZID:Australia/Sydney
BEGIN:STANDARD
TZOFFSETFROM:+1100
TZOFFSETTO:+1000
TZNAME:AEST
DTSTART:20250405T160000
END:STANDARD
BEGIN:DAYLIGHT
TZOFFSETFROM:+1000
TZOFFSETTO:+1100
TZNAME:AEDT
DTSTART:20251004T160000
END:DAYLIGHT
BEGIN:STANDARD
TZOFFSETFROM:+1100
TZOFFSETTO:+1000
TZNAME:AEST
DTSTART:20260404T160000
END:STANDARD
BEGIN:DAYLIGHT
TZOFFSETFROM:+1000
TZOFFSETTO:+1100
TZNAME:AEDT
DTSTART:20261003T160000
END:DAYLIGHT
BEGIN:STANDARD
TZOFFSETFROM:+1100
TZOFFSETTO:+1000
TZNAME:AEST
DTSTART:20270403T160000
END:STANDARD
BEGIN:DAYLIGHT
TZOFFSETFROM:+1000
TZOFFSETTO:+1100
TZNAME:AEDT
DTSTART:20271002T160000
END:DAYLIGHT
END:VTIMEZONE
BEGIN:VEVENT
DTSTART;TZID=Australia/Sydney:20260328T173000
DTEND;TZID=Australia/Sydney:20260328T230000
DTSTAMP:20260420T172434
CREATED:20251216T215245Z
LAST-MODIFIED:20251216T215651Z
UID:557-1774719000-1774738800@thecordialfactory.com.au
SUMMARY:The Pleasures
DESCRIPTION:💔 Important Update: Postponed Show – The Pleasures at The Cordial Factory 💔 \nDear friends and ticket holders\,\nWe’re very sorry to let you know that November 2025 appearance by The Pleasures at The Cordial Factory has been postponed due to a family bereavement at the venue.\nThe show has been rescheduled to Saturday\, 28th March\, and all existing ticket holders have been contacted by email.\nWe truly appreciate your kindness\, understanding\, and support during this difficult time.\nWith warm regards\,\nThe Cordial Factory\, Grenfell \nMore information regarding the rescheduled event in March will be released in 2026. \n\n\n\n Saturday 28 March 2026 from 5.30pm\n\n\n The Cordial Factory\, 18 George Street Grenfell
URL:https://thecordialfactory.com.au/events/the-pleasures-2026/
LOCATION:The Cordial Factory\, 18 George St\, Grenfell\, NSW\, 2810\, Australia
ATTACH;FMTTYPE=image/jpeg:https://thecordialfactory.com.au/wp-content/uploads/2025/12/574015510_831193336335471_6258764387184206649_n.jpg
END:VEVENT
END:VCALENDAR